BEGIN:VCALENDAR
VERSION:2.0
PRODID:icalendar-ruby
CALSCALE:GREGORIAN
METHOD:PUBLISH
BEGIN:VEVENT
DTSTAMP:20260424T155552Z
UID:406-2840441@stjamescalgary.com
DTSTART:20260804T153000Z
DTEND:20260804T173000Z
CLASS:PUBLIC
CREATED:20260424T094753
DESCRIPTION:
LAST-MODIFIED:20260424T094753
LOCATION:The Fireside Room at St. James
SUMMARY:Knit\, Crochet and Quilt . . . with a purpose!
URL;VALUE=URI:https://www.stjamescalgary.com/events/knit-crochet-and-quilt-
 with-a-purpose--405/2026-08-04
ATTACH;FILENAME=new knitting.jpg;FMTTYPE=image/jpeg:https://dq5pwpg1q8ru0.c
 loudfront.net/2024/08/31/18/21/20/728e3b61-fa78-4148-975a-deab1c5ebc08/new
 %20knitting.jpg
END:VEVENT
END:VCALENDAR
